BEGIN:VCALENDAR
VERSION:2.0
PRODID:-//Sun Peaks Recreational Trail Association - ECPv6.15.20//NONSGML v1.0//EN
CALSCALE:GREGORIAN
METHOD:PUBLISH
X-WR-CALNAME:Sun Peaks Recreational Trail Association
X-ORIGINAL-URL:https://sunpeakstrails.com
X-WR-CALDESC:Events for Sun Peaks Recreational Trail Association
REFRESH-INTERVAL;VALUE=DURATION:PT1H
X-Robots-Tag:noindex
X-PUBLISHED-TTL:PT1H
BEGIN:VTIMEZONE
TZID:America/Vancouver
BEGIN:DAYLIGHT
TZOFFSETFROM:-0800
TZOFFSETTO:-0700
TZNAME:PDT
DTSTART:20180311T100000
END:DAYLIGHT
BEGIN:STANDARD
TZOFFSETFROM:-0700
TZOFFSETTO:-0800
TZNAME:PST
DTSTART:20181104T090000
END:STANDARD
BEGIN:DAYLIGHT
TZOFFSETFROM:-0800
TZOFFSETTO:-0700
TZNAME:PDT
DTSTART:20190310T100000
END:DAYLIGHT
BEGIN:STANDARD
TZOFFSETFROM:-0700
TZOFFSETTO:-0800
TZNAME:PST
DTSTART:20191103T090000
END:STANDARD
BEGIN:DAYLIGHT
TZOFFSETFROM:-0800
TZOFFSETTO:-0700
TZNAME:PDT
DTSTART:20200308T100000
END:DAYLIGHT
BEGIN:STANDARD
TZOFFSETFROM:-0700
TZOFFSETTO:-0800
TZNAME:PST
DTSTART:20201101T090000
END:STANDARD
END:VTIMEZONE
BEGIN:VTIMEZONE
TZID:UTC
BEGIN:STANDARD
TZOFFSETFROM:+0000
TZOFFSETTO:+0000
TZNAME:UTC
DTSTART:20180101T000000
END:STANDARD
END:VTIMEZONE
BEGIN:VEVENT
DTSTART;TZID=America/Vancouver:20190617T180000
DTEND;TZID=America/Vancouver:20190617T200000
DTSTAMP:20260424T164855
CREATED:20190615T202548Z
LAST-MODIFIED:20190615T203341Z
UID:328-1560794400-1560801600@sunpeakstrails.com
SUMMARY:Ladies Who Shred Summer Kick-Off Party
DESCRIPTION:SPRTA and Sun Peaks Resort invite all ladies who ride bikes to this fun and informal meet and greet party at Masa’s Bar + Grill. Celebrate the start of summer with an opportunity to meet like-minded ladies to ride with and connect on all things biking. It doesn’t matter if you’re a DH ripper\, an XC fan\, a Valley Trail cruiser\, or even a roadie – women of all ages who ride any type of bike are welcome! \nWe’ll hook you up with a complimentary burger and beer* to get things rolling so you can join in\, mingle\, and discover the awesome bike community here in Sun Peaks. \nRepresentatives from the Sun Peaks Sports School will be there to share information about the Shred Hard Ladies Bike Camp\, plus the party will serve as the kick-off to the resort’s new Women’s Bike Night program. \nSPRTA will also be there to tell you more about our work on the cross country trail network around Sun Peaks and plans for the future\, as well as selling memberships so you can show your support. \nCome check it out and meet some of the rad local ladies that make our community so great! \n*Must show 2 pieces of ID and be 19 years of age or older to pick up your complimentary beer at Masa’s Bar + Grill. Limited to one beer per person.
URL:https://sunpeakstrails.com/event/ladies-who-shred-summer-kick-off-party/
LOCATION:Masa’s Bar + Grill
END:VEVENT
BEGIN:VEVENT
DTSTART;TZID=America/Vancouver:20190616T093000
DTEND;TZID=America/Vancouver:20190616T133000
DTSTAMP:20260424T164855
CREATED:20190615T202105Z
LAST-MODIFIED:20190615T202233Z
UID:324-1560677400-1560691800@sunpeakstrails.com
SUMMARY:SPRTA at the Farmers' Market
DESCRIPTION:Come and visit SPRTA at the Sun Peaks Farmers’ Market! We’ll be set up from 9:30am to 1:30am\, so swing by to purchase your membership and have a chat about our plans for the summer ahead.
URL:https://sunpeakstrails.com/event/sprta-at-the-farmers-market/
LOCATION:Sun Peaks Farmers’ Market
END:VEVENT
BEGIN:VEVENT
DTSTART;TZID=America/Vancouver:20190613T183000
DTEND;TZID=America/Vancouver:20190613T203000
DTSTAMP:20260424T164855
CREATED:20190603T210111Z
LAST-MODIFIED:20190603T210111Z
UID:299-1560450600-1560457800@sunpeakstrails.com
SUMMARY:Trail Building Day
DESCRIPTION:Join us for a volunteer trail building day to work on new trails! \nMeet at the trailhead above Peaks West/the Fire Hall at 6:30pm. SPRTA trail leaders will be on hand to organise the session and provide tools. We’ll work for approximately two hours. \nPlease respect the access and parking for residents of Burfield Heights by ensuring that you do not park in the Burfield Heights parking area or block the road. We encourage everyone to walk\, ride\, or carpool to the site as much as possible to reduce parking issues. \nPlease note\, due to insurance requirements only current SPRTA members are allowed to take part in trail building days. If you’re not a member but would like to participate please bring the correct cash to pay your membership fee on the day. \nChildren covered by a family membership are welcome\, as long as they are well supervised. For safety reasons\, dogs are not permitted at bigger trail building days like this one.
URL:https://sunpeakstrails.com/event/trail-building-day-8/
LOCATION:Firehall Trail
END:VEVENT
BEGIN:VEVENT
DTSTART;TZID=America/Vancouver:20190612T183000
DTEND;TZID=America/Vancouver:20190612T203000
DTSTAMP:20260424T164855
CREATED:20190603T205951Z
LAST-MODIFIED:20190603T205951Z
UID:297-1560364200-1560371400@sunpeakstrails.com
SUMMARY:Trail Building Day
DESCRIPTION:Join us for a volunteer trail building day to work on new trails! \nMeet at the trailhead above Peaks West/the Fire Hall at 6:30pm. SPRTA trail leaders will be on hand to organise the session and provide tools. We’ll work for approximately two hours. \nPlease respect the access and parking for residents of Burfield Heights by ensuring that you do not park in the Burfield Heights parking area or block the road. We encourage everyone to walk\, ride\, or carpool to the site as much as possible to reduce parking issues. \nPlease note\, due to insurance requirements only current SPRTA members are allowed to take part in trail building days. If you’re not a member but would like to participate please bring the correct cash to pay your membership fee on the day. \nChildren covered by a family membership are welcome\, as long as they are well supervised. For safety reasons\, dogs are not permitted at bigger trail building days like this one.
URL:https://sunpeakstrails.com/event/trail-building-day-7/
LOCATION:Firehall Trail
END:VEVENT
BEGIN:VEVENT
DTSTART;TZID=America/Vancouver:20190606T183000
DTEND;TZID=America/Vancouver:20190606T203000
DTSTAMP:20260424T164855
CREATED:20190603T205417Z
LAST-MODIFIED:20190603T205417Z
UID:295-1559845800-1559853000@sunpeakstrails.com
SUMMARY:Trail Building Day
DESCRIPTION:Join us for a volunteer trail building day to work on new trails! \nMeet at the trailhead above Peaks West/the Fire Hall at 6:30pm. SPRTA trail leaders will be on hand to organise the session and provide tools. We’ll work for approximately two hours. \nPlease respect the access and parking for residents of Burfield Heights by ensuring that you do not park in the Burfield Heights parking area or block the road. We encourage everyone to walk\, ride\, or carpool to the site as much as possible to reduce parking issues. \nPlease note\, due to insurance requirements only current SPRTA members are allowed to take part in trail building days. If you’re not a member but would like to participate please bring the correct cash to pay your membership fee on the day. \nChildren covered by a family membership are welcome\, as long as they are well supervised. For safety reasons\, dogs are not permitted at bigger trail building days like this one.
URL:https://sunpeakstrails.com/event/trail-building-day-6/
END:VEVENT
BEGIN:VEVENT
DTSTART;TZID=America/Vancouver:20190605T183000
DTEND;TZID=America/Vancouver:20190605T203000
DTSTAMP:20260424T164855
CREATED:20190603T205251Z
LAST-MODIFIED:20190603T205251Z
UID:293-1559759400-1559766600@sunpeakstrails.com
SUMMARY:Trail Building Day
DESCRIPTION:Join us for a volunteer trail building day to work on new trails! \nMeet at the trailhead above Peaks West/the Fire Hall at 6:30pm. SPRTA trail leaders will be on hand to organise the session and provide tools. We’ll work for approximately two hours. \nPlease respect the access and parking for residents of Burfield Heights by ensuring that you do not park in the Burfield Heights parking area or block the road. We encourage everyone to walk\, ride\, or carpool to the site as much as possible to reduce parking issues. \nPlease note\, due to insurance requirements only current SPRTA members are allowed to take part in trail building days. If you’re not a member but would like to participate please bring the correct cash to pay your membership fee on the day. \nChildren covered by a family membership are welcome\, as long as they are well supervised. For safety reasons\, dogs are not permitted at bigger trail building days like this one.
URL:https://sunpeakstrails.com/event/trail-building-day-5/
LOCATION:Firehall Trail
END:VEVENT
BEGIN:VEVENT
DTSTART;TZID=America/Vancouver:20190604T183000
DTEND;TZID=America/Vancouver:20190604T203000
DTSTAMP:20260424T164855
CREATED:20190603T205147Z
LAST-MODIFIED:20190603T205147Z
UID:291-1559673000-1559680200@sunpeakstrails.com
SUMMARY:Trail Building Day
DESCRIPTION:Join us for a volunteer trail building day to work on new trails! \nMeet at the trailhead above Peaks West/the Fire Hall at 6:30pm. SPRTA trail leaders will be on hand to organise the session and provide tools. We’ll work for approximately two hours. \nPlease respect the access and parking for residents of Burfield Heights by ensuring that you do not park in the Burfield Heights parking area or block the road. We encourage everyone to walk\, ride\, or carpool to the site as much as possible to reduce parking issues. \nPlease note\, due to insurance requirements only current SPRTA members are allowed to take part in trail building days. If you’re not a member but would like to participate please bring the correct cash to pay your membership fee on the day. \nChildren covered by a family membership are welcome\, as long as they are well supervised. For safety reasons\, dogs are not permitted at bigger trail building days like this one.
URL:https://sunpeakstrails.com/event/trail-building-day-4/
LOCATION:Firehall Trail
END:VEVENT
BEGIN:VEVENT
DTSTART;TZID=UTC:20190529T183000
DTEND;TZID=UTC:20190529T203000
DTSTAMP:20260424T164855
CREATED:20190522T140106Z
LAST-MODIFIED:20190522T140106Z
UID:283-1559154600-1559161800@sunpeakstrails.com
SUMMARY:Trail Building Day
DESCRIPTION:Join us for a volunteer trail building day to work on new trails! \nMeet at the trailhead above Peaks West/the Fire Hall at 6:30pm. SPRTA trail leaders will be on hand to organise the session and provide tools. We’ll work for approximately two hours. \nPlease respect the access and parking for residents of Burfield Heights by ensuring that you do not park in the Burfield Heights parking area or block the road. We encourage everyone to walk\, ride\, or carpool to the site as much as possible to reduce parking issues. \nPlease note\, due to insurance requirements only current SPRTA members are allowed to take part in trail building days. If you’re not a member but would like to participate please bring the correct cash to pay your membership fee on the day. \nChildren covered by a family membership are welcome\, as long as they are well supervised. For safety reasons\, dogs are not permitted at bigger trail building days like this one.
URL:https://sunpeakstrails.com/event/trail-building-day-3/
LOCATION:Firehall Trail
END:VEVENT
BEGIN:VEVENT
DTSTART;TZID=America/Vancouver:20190528T183000
DTEND;TZID=America/Vancouver:20190528T203000
DTSTAMP:20260424T164855
CREATED:20190522T135913Z
LAST-MODIFIED:20190522T135913Z
UID:281-1559068200-1559075400@sunpeakstrails.com
SUMMARY:Trail Building Day
DESCRIPTION:Join us for a volunteer trail building day to work on new trails! \nMeet at the trailhead above Peaks West/the Fire Hall at 6:30pm. SPRTA trail leaders will be on hand to organise the session and provide tools. We’ll work for approximately two hours. \nPlease respect the access and parking for residents of Burfield Heights by ensuring that you do not park in the Burfield Heights parking area or block the road. We encourage everyone to walk\, ride\, or carpool to the site as much as possible to reduce parking issues. \nPlease note\, due to insurance requirements only current SPRTA members are allowed to take part in trail building days. If you’re not a member but would like to participate please bring the correct cash to pay your membership fee on the day. \nChildren covered by a family membership are welcome\, as long as they are well supervised. For safety reasons\, dogs are not permitted at bigger trail building days like this one.
URL:https://sunpeakstrails.com/event/trail-building-day-2/
LOCATION:Firehall Trail
END:VEVENT
BEGIN:VEVENT
DTSTART;TZID=America/Vancouver:20190522T183000
DTEND;TZID=America/Vancouver:20190522T203000
DTSTAMP:20260424T164855
CREATED:20190522T135635Z
LAST-MODIFIED:20190522T135635Z
UID:277-1558549800-1558557000@sunpeakstrails.com
SUMMARY:Trail Building Day
DESCRIPTION:Join us for a volunteer trail building day to work on new trails! \nMeet at the trailhead above Peaks West/the Fire Hall at 6:30pm. SPRTA trail leaders will be on hand to organise the session and provide tools. We’ll work for approximately two hours. \nPlease respect the access and parking for residents of Burfield Heights by ensuring that you do not park in the Burfield Heights parking area or block the road. We encourage everyone to walk\, ride\, or carpool to the site as much as possible to reduce parking issues. \nPlease note\, due to insurance requirements only current SPRTA members are allowed to take part in trail building days. If you’re not a member but would like to participate please bring the correct cash to pay your membership fee on the day. \nChildren covered by a family membership are welcome\, as long as they are well supervised. For safety reasons\, dogs are not permitted at bigger trail building days like this one.
URL:https://sunpeakstrails.com/event/trail-building-day/
LOCATION:Firehall Trail
END:VEVENT
BEGIN:VEVENT
DTSTART;TZID=America/Vancouver:20190511T093000
DTEND;TZID=America/Vancouver:20190511T163000
DTSTAMP:20260424T164855
CREATED:20190512T222454Z
LAST-MODIFIED:20190512T223501Z
UID:267-1557567000-1557592200@sunpeakstrails.com
SUMMARY:Trail Building Clinic
DESCRIPTION:SPRTA is hosting a mountain bike trail building clinic on Saturday\, May 11. The clinic will be taught by local Kamloops trail building legend Darryl Ketter and is a fantastic opportunity to learn the fundamentals of trail design/construction. \nThe clinic is free\, but is available to SPRTA members only so you will need to purchase a membership in order to take part. There is a maximum of 20 places available and they will be filled on a first come\, first served basis. \nIf you’re interested in taking part please RSVP to sprtapresident@gmail.com to secure your spot.
URL:https://sunpeakstrails.com/event/trail-building-clinic/
LOCATION:Morrisey’s Public House
END:VEVENT
END:VCALENDAR